BEGIN:VCALENDAR
VERSION:2.0
PRODID:-//Rämlers - ECPv4.6.23//NONSGML v1.0//EN
CALSCALE:GREGORIAN
METHOD:PUBLISH
X-WR-CALNAME:Rämlers
X-ORIGINAL-URL:https://raemlers.ch
X-WR-CALDESC:Veranstaltungen für Rämlers
BEGIN:VEVENT
DTSTART;TZID=UTC+0:20260426T130000
DTEND;TZID=UTC+0:20260426T160000
DTSTAMP:20260420T005216
CREATED:20251206T133418Z
LAST-MODIFIED:20260417T124804Z
UID:3284-1777208400-1777219200@raemlers.ch
SUMMARY:Gartencenter Grünenfelder
DESCRIPTION:Gartenfest mit Festwirtschaft und Kleintierschau \n
URL:https://raemlers.ch/event/gartenzenter-gruenenfelder-2/
LOCATION:Grünenfelder Niederurnen
END:VEVENT
END:VCALENDAR