BEGIN:VCALENDAR
VERSION:2.0
PRODID:-//Rämlers - ECPv4.6.23//NONSGML v1.0//EN
CALSCALE:GREGORIAN
METHOD:PUBLISH
X-WR-CALNAME:Rämlers
X-ORIGINAL-URL:https://raemlers.ch
X-WR-CALDESC:Veranstaltungen für Rämlers
BEGIN:VEVENT
DTSTART;TZID=UTC+0:20250316T120000
DTEND;TZID=UTC+0:20250316T170000
DTSTAMP:20260421T082213
CREATED:20250215T123946Z
LAST-MODIFIED:20250215T123946Z
UID:3257-1742126400-1742144400@raemlers.ch
SUMMARY:GLKB Arena - Saisonende
DESCRIPTION:
URL:https://raemlers.ch/event/glkb-arena-saisonende/
LOCATION:GLKB Arena\, Buchholzstrasse 65\, Glarus\, Glarus\, 8750\, Schweiz
END:VEVENT
END:VCALENDAR