BEGIN:VCALENDAR
VERSION:2.0
PRODID:-//Rämlers - ECPv4.6.23//NONSGML v1.0//EN
CALSCALE:GREGORIAN
METHOD:PUBLISH
X-WR-CALNAME:Rämlers
X-ORIGINAL-URL:https://raemlers.ch
X-WR-CALDESC:Veranstaltungen für Rämlers
BEGIN:VEVENT
DTSTART;TZID=UTC+0:20190817T200000
DTEND;TZID=UTC+0:20190817T200000
DTSTAMP:20260424T132144
CREATED:20190131T153058Z
LAST-MODIFIED:20190718T141817Z
UID:2570-1566072000-1566072000@raemlers.ch
SUMMARY:Vista Bar
DESCRIPTION: \n
URL:https://raemlers.ch/event/vista-bar/
LOCATION:Näfels\, Molliserstrasse 5\, Näfels\, 8752
CATEGORIES:Events
END:VEVENT
END:VCALENDAR