BEGIN:VCALENDAR
VERSION:2.0
PRODID:-//Rämlers - ECPv4.6.23//NONSGML v1.0//EN
CALSCALE:GREGORIAN
METHOD:PUBLISH
X-WR-CALNAME:Rämlers
X-ORIGINAL-URL:https://raemlers.ch
X-WR-CALDESC:Veranstaltungen für Rämlers
BEGIN:VEVENT
DTSTART;TZID=UTC+0:20200613T193000
DTEND;TZID=UTC+0:20200613T233000
DTSTAMP:20260424T044654
CREATED:20191021T155344Z
LAST-MODIFIED:20200605T114808Z
UID:2677-1592076600-1592091000@raemlers.ch
SUMMARY:Berggasthaus Schwammhöhe
DESCRIPTION: \n  \n  \n  \n  \n  \n
URL:https://raemlers.ch/event/vista-bar-mollis/
LOCATION:Glarus\, Sackbergstrasse 44\, Glarus\, 8750
CATEGORIES:Events
END:VEVENT
END:VCALENDAR