BEGIN:VCALENDAR
VERSION:2.0
PRODID:-//Rämlers - ECPv4.6.23//NONSGML v1.0//EN
CALSCALE:GREGORIAN
METHOD:PUBLISH
X-WR-CALNAME:Rämlers
X-ORIGINAL-URL:https://raemlers.ch
X-WR-CALDESC:Veranstaltungen für Rämlers
BEGIN:VEVENT
DTSTART;TZID=UTC+0:20190802T220000
DTEND;TZID=UTC+0:20190802T220000
DTSTAMP:20260424T132336
CREATED:20190703T154218Z
LAST-MODIFIED:20190718T141729Z
UID:2608-1564783200-1564783200@raemlers.ch
SUMMARY:Sommerbühne Glarus
DESCRIPTION:
URL:https://raemlers.ch/event/sommerbuehne-glarus/
LOCATION:Volksgarten\, Glarus\, Volksgarten\, Glarus\, 8750\, Schweiz
CATEGORIES:Events
END:VEVENT
END:VCALENDAR