BEGIN:VCALENDAR
VERSION:2.0
PRODID:-//Rämlers - ECPv4.6.23//NONSGML v1.0//EN
CALSCALE:GREGORIAN
METHOD:PUBLISH
X-WR-CALNAME:Rämlers
X-ORIGINAL-URL:https://raemlers.ch
X-WR-CALDESC:Veranstaltungen für Rämlers
BEGIN:VEVENT
DTSTART;TZID=UTC+0:20220806T200000
DTEND;TZID=UTC+0:20220806T230000
DTSTAMP:20260423T025340
CREATED:20220209T170510Z
LAST-MODIFIED:20220309T165124Z
UID:3141-1659816000-1659826800@raemlers.ch
SUMMARY:Sommerbühne Glarus
DESCRIPTION:
URL:https://raemlers.ch/event/sommerbuehne-glarus-2/
LOCATION:Glarus
CATEGORIES:Events
END:VEVENT
END:VCALENDAR