BEGIN:VCALENDAR
VERSION:2.0
PRODID:-//Rämlers - ECPv4.6.23//NONSGML v1.0//EN
CALSCALE:GREGORIAN
METHOD:PUBLISH
X-WR-CALNAME:Rämlers
X-ORIGINAL-URL:https://raemlers.ch
X-WR-CALDESC:Veranstaltungen für Rämlers
BEGIN:VEVENT
DTSTART;TZID=UTC+0:20230319T150000
DTEND;TZID=UTC+0:20230319T190000
DTSTAMP:20260422T195456
CREATED:20230303T144802Z
LAST-MODIFIED:20230303T144802Z
UID:3184-1679238000-1679252400@raemlers.ch
SUMMARY:Season End Party im Ämpächli Elm
DESCRIPTION: \n
URL:https://raemlers.ch/event/season-end-party-im-aempaechli-elm/
LOCATION:Sportbahnen Elm\, Ämpächli\, Elm\, GL\, 8767
END:VEVENT
END:VCALENDAR