BEGIN:VCALENDAR
VERSION:2.0
PRODID:-//Rämlers - ECPv4.6.23//NONSGML v1.0//EN
CALSCALE:GREGORIAN
METHOD:PUBLISH
X-WR-CALNAME:Rämlers
X-ORIGINAL-URL:https://raemlers.ch
X-WR-CALDESC:Veranstaltungen für Rämlers
BEGIN:VEVENT
DTSTART;TZID=UTC+0:20190622T193000
DTEND;TZID=UTC+0:20190622T223000
DTSTAMP:20260424T144320
CREATED:20190123T205809Z
LAST-MODIFIED:20190520T150902Z
UID:2566-1561231800-1561242600@raemlers.ch
SUMMARY:Rhodannenberg Klöntal
DESCRIPTION: \n
URL:https://raemlers.ch/event/rhodannenberg-kloental/
LOCATION:Klöntal\, Klöntalerstrasse 36\, Glarus\, 8750
CATEGORIES:Events
END:VEVENT
END:VCALENDAR