BEGIN:VCALENDAR
VERSION:2.0
PRODID:-//Rämlers - ECPv4.6.23//NONSGML v1.0//EN
CALSCALE:GREGORIAN
METHOD:PUBLISH
X-WR-CALNAME:Rämlers
X-ORIGINAL-URL:https://raemlers.ch
X-WR-CALDESC:Veranstaltungen für Rämlers
BEGIN:VEVENT
DTSTART;TZID=Europe/Zurich:20181130T183000
DTEND;TZID=Europe/Zurich:20181130T220000
DTSTAMP:20260424T222421
CREATED:20181004T191324Z
LAST-MODIFIED:20181109T110410Z
UID:2547-1543602600-1543615200@raemlers.ch
SUMMARY:Privatanlass Glarus
DESCRIPTION:
URL:https://raemlers.ch/event/privatanlass/
LOCATION:Glarus
END:VEVENT
END:VCALENDAR