BEGIN:VCALENDAR
VERSION:2.0
PRODID:-//Rämlers - ECPv4.6.23//NONSGML v1.0//EN
CALSCALE:GREGORIAN
METHOD:PUBLISH
X-WR-CALNAME:Rämlers
X-ORIGINAL-URL:https://raemlers.ch
X-WR-CALDESC:Veranstaltungen für Rämlers
BEGIN:VEVENT
DTSTART;TZID=UTC+0:20220602T000000
DTEND;TZID=UTC+0:20220602T000000
DTSTAMP:20260423T101255
CREATED:20220209T165901Z
LAST-MODIFIED:20220216T162527Z
UID:3136-1654128000-1654128000@raemlers.ch
SUMMARY:Privatanlass Glarus
DESCRIPTION:
URL:https://raemlers.ch/event/privatanlass-glarus/
CATEGORIES:Privatanlass
END:VEVENT
END:VCALENDAR