BEGIN:VCALENDAR
VERSION:2.0
PRODID:-//Rämlers - ECPv4.6.23//NONSGML v1.0//EN
CALSCALE:GREGORIAN
METHOD:PUBLISH
X-WR-CALNAME:Rämlers
X-ORIGINAL-URL:https://raemlers.ch
X-WR-CALDESC:Veranstaltungen für Rämlers
BEGIN:VEVENT
DTSTART;VALUE=DATE:20181124
DTEND;VALUE=DATE:20181125
DTSTAMP:20260424T235437
CREATED:20180707T132624Z
LAST-MODIFIED:20180707T133216Z
UID:2476-1543017600-1543103999@raemlers.ch
SUMMARY:Privatanlass Ennenda
DESCRIPTION:
URL:https://raemlers.ch/event/privatanlass-ennenda/
LOCATION:Ennenda\, Schweiz
CATEGORIES:Privatanlass
END:VEVENT
END:VCALENDAR