BEGIN:VCALENDAR
VERSION:2.0
PRODID:-//Rämlers - ECPv4.6.23//NONSGML v1.0//EN
CALSCALE:GREGORIAN
METHOD:PUBLISH
X-WR-CALNAME:Rämlers
X-ORIGINAL-URL:https://raemlers.ch
X-WR-CALDESC:Veranstaltungen für Rämlers
BEGIN:VEVENT
DTSTART;VALUE=DATE:20221031
DTEND;VALUE=DATE:20221101
DTSTAMP:20260422T235607
CREATED:20220830T151925Z
LAST-MODIFIED:20220830T152012Z
UID:3176-1667174400-1667260799@raemlers.ch
SUMMARY:Privatanlass
DESCRIPTION:
URL:https://raemlers.ch/event/privatanlass-4/
LOCATION:Näfels\, 8752\, Schweiz
END:VEVENT
END:VCALENDAR