BEGIN:VCALENDAR
VERSION:2.0
PRODID:-//Rämlers - ECPv4.6.23//NONSGML v1.0//EN
CALSCALE:GREGORIAN
METHOD:PUBLISH
X-WR-CALNAME:Rämlers
X-ORIGINAL-URL:https://raemlers.ch
X-WR-CALDESC:Veranstaltungen für Rämlers
BEGIN:VEVENT
DTSTART;TZID=UTC+0:20200805T000000
DTEND;TZID=UTC+0:20200805T000000
DTSTAMP:20260424T032743
CREATED:20200721T152825Z
LAST-MODIFIED:20200721T152825Z
UID:2730-1596585600-1596585600@raemlers.ch
SUMMARY:Privatanlass
DESCRIPTION:
URL:https://raemlers.ch/event/privatanlass-2/
CATEGORIES:Privatanlass
END:VEVENT
END:VCALENDAR