BEGIN:VCALENDAR
VERSION:2.0
PRODID:-//Rämlers - ECPv4.6.23//NONSGML v1.0//EN
CALSCALE:GREGORIAN
METHOD:PUBLISH
X-WR-CALNAME:Rämlers
X-ORIGINAL-URL:https://raemlers.ch
X-WR-CALDESC:Veranstaltungen für Rämlers
BEGIN:VEVENT
DTSTART;TZID=UTC+0:20190616T133000
DTEND;TZID=UTC+0:20190616T163000
DTSTAMP:20260424T172341
CREATED:20190501T050722Z
LAST-MODIFIED:20190518T143428Z
UID:2580-1560691800-1560702600@raemlers.ch
SUMMARY:Panixerstübli Elm
DESCRIPTION: \n
URL:https://raemlers.ch/event/panixerstuebli-elm/
LOCATION:Elm\, Walenbrugg 1\, Elm\, 8767\, Schweiz
CATEGORIES:Events
END:VEVENT
END:VCALENDAR