BEGIN:VCALENDAR
VERSION:2.0
PRODID:-//Rämlers - ECPv4.6.23//NONSGML v1.0//EN
CALSCALE:GREGORIAN
METHOD:PUBLISH
X-WR-CALNAME:Rämlers
X-ORIGINAL-URL:https://raemlers.ch
X-WR-CALDESC:Veranstaltungen für Rämlers
BEGIN:VEVENT
DTSTART;TZID=UTC+0:20230325T200000
DTEND;TZID=UTC+0:20230326T020000
DTSTAMP:20260422T183224
CREATED:20230303T145159Z
LAST-MODIFIED:20230303T145159Z
UID:3188-1679774400-1679796000@raemlers.ch
SUMMARY:One Hour Less Party
DESCRIPTION: \n
URL:https://raemlers.ch/event/one-hour-less-party/
LOCATION:Clubhaus Old Factory\, Siebnen\, GL
END:VEVENT
END:VCALENDAR