BEGIN:VCALENDAR
VERSION:2.0
PRODID:-//Rämlers - ECPv4.6.23//NONSGML v1.0//EN
CALSCALE:GREGORIAN
METHOD:PUBLISH
X-WR-CALNAME:Rämlers
X-ORIGINAL-URL:https://raemlers.ch
X-WR-CALDESC:Veranstaltungen für Rämlers
BEGIN:VEVENT
DTSTART;TZID=UTC+0:20201009T193000
DTEND;TZID=UTC+0:20201009T220000
DTSTAMP:20260424T002220
CREATED:20201004T095821Z
LAST-MODIFIED:20201004T095823Z
UID:2749-1602271800-1602280800@raemlers.ch
SUMMARY:Öffentliche Probe
DESCRIPTION: \n
URL:https://raemlers.ch/event/oeffentliche-probe/
LOCATION:Glarus
END:VEVENT
END:VCALENDAR