BEGIN:VCALENDAR
VERSION:2.0
PRODID:-//Rämlers - ECPv4.6.23//NONSGML v1.0//EN
CALSCALE:GREGORIAN
METHOD:PUBLISH
X-WR-CALNAME:Rämlers
X-ORIGINAL-URL:https://raemlers.ch
X-WR-CALDESC:Veranstaltungen für Rämlers
BEGIN:VEVENT
DTSTART;TZID=UTC+0:20210814T103000
DTEND;TZID=UTC+0:20210815T200000
DTSTAMP:20260423T211503
CREATED:20210414T152813Z
LAST-MODIFIED:20210730T175107Z
UID:2793-1628937000-1629057600@raemlers.ch
SUMMARY:Lastwagentour
DESCRIPTION:Vu Glaris Süd nach Glaris Nord und  z´rug nach Glaris Mitte \n  \n  \n \n
URL:https://raemlers.ch/event/lastwagentour/
LOCATION:Glarnerland
CATEGORIES:Events
END:VEVENT
END:VCALENDAR