BEGIN:VCALENDAR
VERSION:2.0
PRODID:-//Rämlers - ECPv4.6.23//NONSGML v1.0//EN
CALSCALE:GREGORIAN
METHOD:PUBLISH
X-WR-CALNAME:Rämlers
X-ORIGINAL-URL:https://raemlers.ch
X-WR-CALDESC:Veranstaltungen für Rämlers
BEGIN:VEVENT
DTSTART;TZID=UTC+0:20240731T170000
DTEND;TZID=UTC+0:20240731T233000
DTSTAMP:20260420T063006
CREATED:20240319T094359Z
LAST-MODIFIED:20240319T094359Z
UID:3249-1722445200-1722468600@raemlers.ch
SUMMARY:Kulturabend Gemeinde Schänis
DESCRIPTION:
URL:https://raemlers.ch/event/kulturabend-gemeinde-schaenis/
LOCATION:flugplatz schänis\, Schänis\, SG\, 8718\, Schweiz
END:VEVENT
END:VCALENDAR