BEGIN:VCALENDAR
VERSION:2.0
PRODID:-//Rämlers - ECPv4.6.23//NONSGML v1.0//EN
CALSCALE:GREGORIAN
METHOD:PUBLISH
X-WR-CALNAME:Rämlers
X-ORIGINAL-URL:https://raemlers.ch
X-WR-CALDESC:Veranstaltungen für Rämlers
BEGIN:VEVENT
DTSTART;VALUE=DATE:20190621
DTEND;VALUE=DATE:20190622
DTSTAMP:20260424T160313
CREATED:20180707T134002Z
LAST-MODIFIED:20180921T150726Z
UID:2479-1561075200-1561161599@raemlers.ch
SUMMARY:Firmen-Anlass in Pontresina
DESCRIPTION:
URL:https://raemlers.ch/event/konzert-pontresina/
LOCATION:Pontresina\, Schweiz
CATEGORIES:Privatanlass
END:VEVENT
END:VCALENDAR