BEGIN:VCALENDAR
VERSION:2.0
PRODID:-//Rämlers - ECPv4.6.23//NONSGML v1.0//EN
CALSCALE:GREGORIAN
METHOD:PUBLISH
X-WR-CALNAME:Rämlers
X-ORIGINAL-URL:https://raemlers.ch
X-WR-CALDESC:Veranstaltungen für Rämlers
BEGIN:VEVENT
DTSTART;TZID=UTC+0:20200418T000000
DTEND;TZID=UTC+0:20200418T000000
DTSTAMP:20260424T074548
CREATED:20190926T183946Z
LAST-MODIFIED:20200316T063700Z
UID:2658-1587168000-1587168000@raemlers.ch
SUMMARY:Kaltbrunn
DESCRIPTION:ABGESAGT\n
URL:https://raemlers.ch/event/kaltbrunn/
LOCATION:Kaltbrunn\, Benknerstrasse 36\, Kaltbrunn\, 8722
CATEGORIES:Events
END:VEVENT
END:VCALENDAR