BEGIN:VCALENDAR
VERSION:2.0
PRODID:-//Rämlers - ECPv4.6.23//NONSGML v1.0//EN
CALSCALE:GREGORIAN
METHOD:PUBLISH
X-WR-CALNAME:Rämlers
X-ORIGINAL-URL:https://raemlers.ch
X-WR-CALDESC:Veranstaltungen für Rämlers
BEGIN:VEVENT
DTSTART;TZID=UTC+0:20200426T000000
DTEND;TZID=UTC+0:20200426T000000
DTSTAMP:20260424T060707
CREATED:20190703T154611Z
LAST-MODIFIED:20200318T161459Z
UID:2611-1587859200-1587859200@raemlers.ch
SUMMARY:Grünenfelder
DESCRIPTION:Abgesagt\n
URL:https://raemlers.ch/event/gruenenfelder/
LOCATION:Grünenfelder Niederurnen\, Ziegelbrückstrasse 52\, Ziegelbrücke\, 8866
CATEGORIES:Events
END:VEVENT
END:VCALENDAR