BEGIN:VCALENDAR
VERSION:2.0
PRODID:-//Rämlers - ECPv4.6.23//NONSGML v1.0//EN
CALSCALE:GREGORIAN
METHOD:PUBLISH
X-WR-CALNAME:Rämlers
X-ORIGINAL-URL:https://raemlers.ch
X-WR-CALDESC:Veranstaltungen für Rämlers
BEGIN:VEVENT
DTSTART;TZID=UTC+0:20220624T000000
DTEND;TZID=UTC+0:20220624T000000
DTSTAMP:20260423T055852
CREATED:20220425T114343Z
LAST-MODIFIED:20220425T114343Z
UID:3154-1656028800-1656028800@raemlers.ch
SUMMARY:Glarus Service
DESCRIPTION:
URL:https://raemlers.ch/event/glarus-service/
LOCATION:Glarus
CATEGORIES:Events
END:VEVENT
END:VCALENDAR