BEGIN:VCALENDAR
VERSION:2.0
PRODID:-//Rämlers - ECPv4.6.23//NONSGML v1.0//EN
CALSCALE:GREGORIAN
METHOD:PUBLISH
X-WR-CALNAME:Rämlers
X-ORIGINAL-URL:https://raemlers.ch
X-WR-CALDESC:Veranstaltungen für Rämlers
BEGIN:VEVENT
DTSTART;VALUE=DATE:20191012
DTEND;VALUE=DATE:20191013
DTSTAMP:20260424T115043
CREATED:20190302T101442Z
LAST-MODIFIED:20190302T101442Z
UID:2575-1570838400-1570924799@raemlers.ch
SUMMARY:Geburtstags Privatanlass
DESCRIPTION:
URL:https://raemlers.ch/event/geburtstags-privatanlass/
LOCATION:Elm\, Elm\, Glarus\, Schweiz
CATEGORIES:Privatanlass
END:VEVENT
END:VCALENDAR