BEGIN:VCALENDAR
VERSION:2.0
PRODID:-//Rämlers - ECPv4.6.23//NONSGML v1.0//EN
CALSCALE:GREGORIAN
METHOD:PUBLISH
X-WR-CALNAME:Rämlers
X-ORIGINAL-URL:https://raemlers.ch
X-WR-CALDESC:Veranstaltungen für Rämlers
BEGIN:VEVENT
DTSTART;TZID=UTC+0:20181019T190000
DTEND;TZID=UTC+0:20181019T210000
DTSTAMP:20260425T005752
CREATED:20181004T190250Z
LAST-MODIFIED:20181004T190938Z
UID:2544-1539975600-1539982800@raemlers.ch
SUMMARY:Garage Müller Niederurnen
DESCRIPTION:
URL:https://raemlers.ch/event/garage-mueller-niederurnen/
LOCATION:Niederurnen\, Hauptstrasse 52\, Niederurnen\, 8867
CATEGORIES:Events
END:VEVENT
END:VCALENDAR