BEGIN:VCALENDAR
VERSION:2.0
PRODID:-//Rämlers - ECPv4.6.23//NONSGML v1.0//EN
CALSCALE:GREGORIAN
METHOD:PUBLISH
X-WR-CALNAME:Rämlers
X-ORIGINAL-URL:https://raemlers.ch
X-WR-CALDESC:Veranstaltungen für Rämlers
BEGIN:VEVENT
DTSTART;TZID=UTC+0:20230709T140000
DTEND;TZID=UTC+0:20230709T200000
DTSTAMP:20260422T113301
CREATED:20230303T145730Z
LAST-MODIFIED:20230627T090612Z
UID:3198-1688911200-1688932800@raemlers.ch
SUMMARY:Gäsi Beizli
DESCRIPTION:Flyer als PDF\n
URL:https://raemlers.ch/event/gaesi-beizli/
LOCATION:Gäsi\, Gäsi\, GL
END:VEVENT
END:VCALENDAR