BEGIN:VCALENDAR
VERSION:2.0
PRODID:-//Rämlers - ECPv4.6.23//NONSGML v1.0//EN
CALSCALE:GREGORIAN
METHOD:PUBLISH
X-WR-CALNAME:Rämlers
X-ORIGINAL-URL:https://raemlers.ch
X-WR-CALDESC:Veranstaltungen für Rämlers
BEGIN:VEVENT
DTSTART;TZID=UTC+0:20210911T201500
DTEND;TZID=UTC+0:20210911T233000
DTSTAMP:20260423T181648
CREATED:20191021T155803Z
LAST-MODIFIED:20210904T070024Z
UID:2680-1631391300-1631403000@raemlers.ch
SUMMARY:Freulerchilbi Näfels
DESCRIPTION:Freulerchilbi in Näfels \n
URL:https://raemlers.ch/event/freulerchilbi-naefels/
LOCATION:Freulergarten\, Freulergarten\, Näfels\, 8752
CATEGORIES:Events
END:VEVENT
END:VCALENDAR