BEGIN:VCALENDAR
VERSION:2.0
PRODID:-//Rämlers - ECPv4.6.23//NONSGML v1.0//EN
CALSCALE:GREGORIAN
METHOD:PUBLISH
X-WR-CALNAME:Rämlers
X-ORIGINAL-URL:https://raemlers.ch
X-WR-CALDESC:Veranstaltungen für Rämlers
BEGIN:VEVENT
DTSTART;TZID=UTC+0:20220430T193000
DTEND;TZID=UTC+0:20220430T220000
DTSTAMP:20260423T112536
CREATED:20211121T152546Z
LAST-MODIFIED:20220309T164805Z
UID:3117-1651347000-1651356000@raemlers.ch
SUMMARY:FC Glarus
DESCRIPTION:
URL:https://raemlers.ch/event/fc-glarus-2/
LOCATION:Glarus
CATEGORIES:Events
END:VEVENT
END:VCALENDAR