BEGIN:VCALENDAR
VERSION:2.0
PRODID:-//Rämlers - ECPv4.6.23//NONSGML v1.0//EN
CALSCALE:GREGORIAN
METHOD:PUBLISH
X-WR-CALNAME:Rämlers
X-ORIGINAL-URL:https://raemlers.ch
X-WR-CALDESC:Veranstaltungen für Rämlers
BEGIN:VEVENT
DTSTART;TZID=UTC+0:20240210T200000
DTEND;TZID=UTC+0:20240210T233000
DTSTAMP:20260420T100932
CREATED:20231227T093945Z
LAST-MODIFIED:20231227T093945Z
UID:3225-1707595200-1707607800@raemlers.ch
SUMMARY:Fasnacht Netstal
DESCRIPTION:
URL:https://raemlers.ch/event/fasnacht-netstal/
LOCATION:Mehrzweckhalle Netstal\, Netstal\, Glarus\, 8754\, Schweiz
END:VEVENT
END:VCALENDAR