BEGIN:VCALENDAR
VERSION:2.0
PRODID:-//Rämlers - ECPv4.6.23//NONSGML v1.0//EN
CALSCALE:GREGORIAN
METHOD:PUBLISH
X-WR-CALNAME:Rämlers
X-ORIGINAL-URL:https://raemlers.ch
X-WR-CALDESC:Veranstaltungen für Rämlers
BEGIN:VEVENT
DTSTART;VALUE=DATE:20221203
DTEND;VALUE=DATE:20221204
DTSTAMP:20260422T212216
CREATED:20220830T152344Z
LAST-MODIFIED:20220830T152344Z
UID:3179-1670025600-1670111999@raemlers.ch
SUMMARY:Bluebox
DESCRIPTION:
URL:https://raemlers.ch/event/bluebox/
LOCATION:Bluebox\, Niederurnen\, 8867
END:VEVENT
END:VCALENDAR