BEGIN:VCALENDAR
VERSION:2.0
PRODID:-//Rämlers - ECPv4.6.23//NONSGML v1.0//EN
CALSCALE:GREGORIAN
METHOD:PUBLISH
X-WR-CALNAME:Rämlers
X-ORIGINAL-URL:https://raemlers.ch
X-WR-CALDESC:Veranstaltungen für Rämlers
BEGIN:VEVENT
DTSTART;VALUE=DATE:20220902
DTEND;VALUE=DATE:20220903
DTSTAMP:20260423T025503
CREATED:20220425T115736Z
LAST-MODIFIED:20220830T090213Z
UID:3156-1662076800-1662163199@raemlers.ch
SUMMARY:Moosburgfest\, Biebrich-Wiesabaden
DESCRIPTION:
URL:https://raemlers.ch/event/biebrich-wiesbaden-openair/
LOCATION:Biebrich Wiesbaden\, Deutschland
CATEGORIES:Events
END:VEVENT
END:VCALENDAR