BEGIN:VCALENDAR
VERSION:2.0
PRODID:-//Rämlers - ECPv4.6.23//NONSGML v1.0//EN
CALSCALE:GREGORIAN
METHOD:PUBLISH
X-WR-CALNAME:Rämlers
X-ORIGINAL-URL:https://raemlers.ch
X-WR-CALDESC:Veranstaltungen für Rämlers
BEGIN:VEVENT
DTSTART;TZID=UTC+0:20211127T160000
DTEND;TZID=UTC+0:20211127T233000
DTSTAMP:20260423T141551
CREATED:20210414T153132Z
LAST-MODIFIED:20211126T151232Z
UID:2795-1638028800-1638055800@raemlers.ch
SUMMARY:40 Jahr JUBILÄUM Rämlers
DESCRIPTION:Schützenhaus Glarus \n  \n  \nMorgen Samstag feiern wir unser 40-jähriges Jubiläum. Als grosses Fest angedacht\, hat uns Corona ein weiteres Mal die Partylaune verdorben. Wir haben in den letzten Wochen die Covid-Situation mit Sorge beobachtet und sind nun zum Schluss gekommen\, dass wir das Jubiläumskonzert nicht öffentlich abhalten und somit nach dem offiziellen Teil auch keine BesucherInnen mehr reinlassen werden. \nNichtsdestotrotz werden wir feiern\, aber nur im geschlossenen Rahmen mit Ehemaligen\, Freunden\, Verwandten und Wegbegleitern. \nWir bedauern diesen Entscheid sehr – hoffen aber gleichzeitig auf euer Verständnis. \nWir sehn uns hoffentlich im nächsten Jahr an einem unserer Konzerte – es ist übrigens Einiges in Planung! \nUnd wer sich den Abend zuhause versüssen will – die Dokumentation zum 40-jährigen Jubiläum wird morgen auf YouTube aufgeschaltet. Weitere Infos folgen! \n
URL:https://raemlers.ch/event/40-jahr-jubilaeum-raemlers/
LOCATION:Schützenhaus Glarus\, Schützenhausstr. 55\, Glarus\, 8750
CATEGORIES:Events
END:VEVENT
END:VCALENDAR